BEGIN:VCALENDAR
VERSION:2.0
PRODID:-//formaggiastic - ECPv6.15.18//NONSGML v1.0//EN
CALSCALE:GREGORIAN
METHOD:PUBLISH
X-WR-CALNAME:formaggiastic
X-ORIGINAL-URL:https://formaggiastic.com
X-WR-CALDESC:Events for formaggiastic
REFRESH-INTERVAL;VALUE=DURATION:PT1H
X-Robots-Tag:noindex
X-PUBLISHED-TTL:PT1H
BEGIN:VTIMEZONE
TZID:Europe/Vienna
BEGIN:DAYLIGHT
TZOFFSETFROM:+0100
TZOFFSETTO:+0200
TZNAME:CEST
DTSTART:20240331T010000
END:DAYLIGHT
BEGIN:STANDARD
TZOFFSETFROM:+0200
TZOFFSETTO:+0100
TZNAME:CET
DTSTART:20241027T010000
END:STANDARD
BEGIN:DAYLIGHT
TZOFFSETFROM:+0100
TZOFFSETTO:+0200
TZNAME:CEST
DTSTART:20250330T010000
END:DAYLIGHT
BEGIN:STANDARD
TZOFFSETFROM:+0200
TZOFFSETTO:+0100
TZNAME:CET
DTSTART:20251026T010000
END:STANDARD
BEGIN:DAYLIGHT
TZOFFSETFROM:+0100
TZOFFSETTO:+0200
TZNAME:CEST
DTSTART:20260329T010000
END:DAYLIGHT
BEGIN:STANDARD
TZOFFSETFROM:+0200
TZOFFSETTO:+0100
TZNAME:CET
DTSTART:20261025T010000
END:STANDARD
END:VTIMEZONE
BEGIN:VEVENT
DTSTART;VALUE=DATE:20251205
DTEND;VALUE=DATE:20251208
DTSTAMP:20260421T154716
CREATED:20251225T212937Z
LAST-MODIFIED:20251227T135837Z
UID:4639-1764892800-1765151999@formaggiastic.com
SUMMARY:Festival del SILTER D.O.P - Ponte di Legno\, Italy
DESCRIPTION:Festival del SILTER D.O.P – Ponte di Legno\, Italy\nThe * Festival del SILTER D.O.P *  goes into its 7th round this year ! \n+Silter+ is a unique raw cow´s milk cheese of an inimitable taste\, that takes its name from the room in the malga that was used for maturing the wheels. \nThe event starts Friday the 5th of December and will easily carry you through the whole weekend. \n\nLocation: Ponte di Legno\, within the province of Brescia\, Italy.\nVenue: The main event is usually held in the Sala Polifunzionale (Multipurpose Hall) on Via Salimmo.\nActivities: The festival features exhibitions\, tastings of the protected designation of origin (DOP) Silter cheese and other local products\, and a “popular jury” competition to award the best Silter of the year.\n\n  \n  \n 
URL:https://formaggiastic.com/event/festival-del-silter-dop-pontedilgeno-italy
LOCATION:adamello\, Piazza Pellegrinaggio\, Adamello\, Italy
END:VEVENT
END:VCALENDAR