BEGIN:VCALENDAR
VERSION:2.0
PRODID:-//formaggiastic - ECPv6.15.18//NONSGML v1.0//EN
CALSCALE:GREGORIAN
METHOD:PUBLISH
X-WR-CALNAME:formaggiastic
X-ORIGINAL-URL:https://formaggiastic.com
X-WR-CALDESC:Events for formaggiastic
REFRESH-INTERVAL;VALUE=DURATION:PT1H
X-Robots-Tag:noindex
X-PUBLISHED-TTL:PT1H
BEGIN:VTIMEZONE
TZID:UTC
BEGIN:STANDARD
TZOFFSETFROM:+0000
TZOFFSETTO:+0000
TZNAME:UTC
DTSTART:20240101T000000
END:STANDARD
END:VTIMEZONE
BEGIN:VEVENT
DTSTART;VALUE=DATE:20250927
DTEND;VALUE=DATE:20250929
DTSTAMP:20260420T112252
CREATED:20250501T203833Z
LAST-MODIFIED:20250731T132630Z
UID:2056-1758931200-1759103999@formaggiastic.com
SUMMARY:Caseifici Open Day 2025- Italy
DESCRIPTION:Caseifici Open DAY 2025- an open day dairy event throughout Italy!\nAt the end of September\, on the weekend of the 27th and 28th\, dairies all over Italy will take part in this open day event. \nThere will be tastings of cheese\, wine and other artisan products as well as guided tours of the dairies and the property around. You will be able to get in contact with the animals\, ask questions about the production and the farmer´s daily-life and fill up your shopping bags with all kinds of goodies.\nLast year more than 60 cheese dairies in all of Italy took place in this unique event –  a weekend not to miss!\n \nNote:\nFestival times might change and events might be canceled.\nAlways check official sites before booking your trip or heading out the door.\nImage Rights: All images used in this event calendar are under copyright of the organizer and or/its maker.
URL:https://formaggiastic.com/event/caseifici-open-day-italy
LOCATION:open house Italy\, Italy
ATTACH;FMTTYPE=image/jpeg:https://formaggiastic.com/wp-content/uploads/2022/07/caseifici-open-day.jpg
END:VEVENT
END:VCALENDAR