BEGIN:VCALENDAR
VERSION:2.0
PRODID:-//formaggiastic - ECPv6.15.18//NONSGML v1.0//EN
CALSCALE:GREGORIAN
METHOD:PUBLISH
X-WR-CALNAME:formaggiastic
X-ORIGINAL-URL:https://formaggiastic.com
X-WR-CALDESC:Events for formaggiastic
REFRESH-INTERVAL;VALUE=DURATION:PT1H
X-Robots-Tag:noindex
X-PUBLISHED-TTL:PT1H
BEGIN:VTIMEZONE
TZID:Europe/Vienna
BEGIN:DAYLIGHT
TZOFFSETFROM:+0100
TZOFFSETTO:+0200
TZNAME:CEST
DTSTART:20210328T010000
END:DAYLIGHT
BEGIN:STANDARD
TZOFFSETFROM:+0200
TZOFFSETTO:+0100
TZNAME:CET
DTSTART:20211031T010000
END:STANDARD
BEGIN:DAYLIGHT
TZOFFSETFROM:+0100
TZOFFSETTO:+0200
TZNAME:CEST
DTSTART:20220327T010000
END:DAYLIGHT
BEGIN:STANDARD
TZOFFSETFROM:+0200
TZOFFSETTO:+0100
TZNAME:CET
DTSTART:20221030T010000
END:STANDARD
BEGIN:DAYLIGHT
TZOFFSETFROM:+0100
TZOFFSETTO:+0200
TZNAME:CEST
DTSTART:20230326T010000
END:DAYLIGHT
BEGIN:STANDARD
TZOFFSETFROM:+0200
TZOFFSETTO:+0100
TZNAME:CET
DTSTART:20231029T010000
END:STANDARD
END:VTIMEZONE
BEGIN:VTIMEZONE
TZID:UTC
BEGIN:STANDARD
TZOFFSETFROM:+0000
TZOFFSETTO:+0000
TZNAME:UTC
DTSTART:20180101T000000
END:STANDARD
END:VTIMEZONE
BEGIN:VEVENT
DTSTART;TZID=Europe/Vienna:20221112T080000
DTEND;TZID=Europe/Vienna:20221112T170000
DTSTAMP:20260420T135603
CREATED:20221029T123032Z
LAST-MODIFIED:20221029T123032Z
UID:4529-1668240000-1668272400@formaggiastic.com
SUMMARY:Chocolate & Cheese Festival - Foley\, USA
DESCRIPTION:Chocolate & Cheese Festival – Foley\, Alabama\, USA\n  \nChocolate and Cheese definitely make a pair and therefore the organizers of this Alabama Festival thought why not dedicate a whole day to this! \nThere will be contests\, music and lots of things to try and by!
URL:https://formaggiastic.com/event/chocolate-cheese-foley
LOCATION:Heritage Park Foley\, Heritage Park 200 N McKenzie Foley\, Foley\, Alabama\, 36535\, United States
END:VEVENT
BEGIN:VEVENT
DTSTART;TZID=UTC:20221105T090000
DTEND;TZID=UTC:20221105T160000
DTSTAMP:20260420T135604
CREATED:20220106T183456Z
LAST-MODIFIED:20220114T212303Z
UID:3601-1667638800-1667664000@formaggiastic.com
SUMMARY:Obwaldner Käsemarkt\, Sarnen\, CH
DESCRIPTION:Every year on the first Saturday in November the Obwaldner Käsemarkt takes place in Sarnen and this year it´s for the 28th time!\n\nObwaldner Käsemarkt is one of Switzerland’s oldest “Alpkäse” markets and even though Gustav and I haven’t made it there yet – we are more than sure it’s worth to mark your calendar! \nNote: Due to Covid-19 in the past many events were moved or had to be canceled. Make sure to always check official sites before booking tickets or heading to an event.
URL:https://formaggiastic.com/event/sarnen
LOCATION:Sarnen\, Dorfplatz\, Sarnen\, Obwalden\, 6060\, Switzerland
ATTACH;FMTTYPE=image/jpeg:https://formaggiastic.com/wp-content/uploads/2020/06/cow-1.jpg
END:VEVENT
BEGIN:VEVENT
DTSTART;VALUE=DATE:20221102
DTEND;VALUE=DATE:20221103
DTSTAMP:20260420T135604
CREATED:20220801T100741Z
LAST-MODIFIED:20221101T111530Z
UID:4570-1667347200-1667433599@formaggiastic.com
SUMMARY:Le Concours de Fromage du Québec - Quebec\, Canada
DESCRIPTION:Le Concours de Fromage du Québec – Québec\, Canada\nThe annual Québec Cheese competition is open for competitors since June 1st of this year. \n60 cheeses are still in the race with the winners to be announced on November 2nd 2022!
URL:https://formaggiastic.com/event/le-concours-de-fromage-du-quebec
LOCATION:Québec\, 599\, rue Principale\, Québec\, Saint Prime\, G8J1T2\, Canada
END:VEVENT
BEGIN:VEVENT
DTSTART;TZID=Europe/Vienna:20221008T100000
DTEND;TZID=Europe/Vienna:20221008T160000
DTSTAMP:20260420T135604
CREATED:20220801T103306Z
LAST-MODIFIED:20221101T114247Z
UID:4578-1665223200-1665244800@formaggiastic.com
SUMMARY:South Island Cheese Festival 2022 - Blenheim\, NZ
DESCRIPTION:South Island Cheese Festival 2022 – Blenheim\, NZ\nThe South Island Cheese Fest is back! \nTraditionally held at the Clos Henri Vineyard the South Island Cheese Festival celebrates NZ cheese from all over the nation. Visitors will be invited for tastings and can enjoy cheeses they might not even have heard of.  \nOf course there will be also plenty to drink and live music to entertain you through the day that will be crowned by the anouncment of the People´s Choice Cheese! \n 
URL:https://formaggiastic.com/event/south-island-cheese-festival-2022
LOCATION:Clos Henri Vineyard\, 639 State Highway 63\, Renwick\, 7271\, New Zealand
END:VEVENT
BEGIN:VEVENT
DTSTART;VALUE=DATE:20221002
DTEND;VALUE=DATE:20221003
DTSTAMP:20260420T135604
CREATED:20220801T093357Z
LAST-MODIFIED:20250731T154101Z
UID:4564-1664668800-1664755199@formaggiastic.com
SUMMARY:Caseus - Piazzola sul Brenta\, Italy
DESCRIPTION:Caseus – Piazzola sul Brenta\, Italy\nCaseus\, which takes place for the 21st time in 2025 is THE event for Veneto Cheeses! \nThis year it is a melt of Caseus Veneti\, Caseus Italie e Caseus Mundi and the event expects far more visitors than ever before! \nThis years Venetian cheese competition also counts more than 500 participating cheeses and will also feature the 4th competition of farmstead cheeses. I would say – if you have never been there\, this year is the time to go! \nBy the way: As it is the tradition he event will take place in the beautiful setting of \nVilla Contarini in Piazzola sul Brenta.
URL:https://formaggiastic.com/event/caseus-piazzola-sul-brenta-italy
LOCATION:villa contarini\, Via Luigi Camerini\, 1\, Piazzola sul Brenta\, padova\, 35016\, Italy
END:VEVENT
BEGIN:VEVENT
DTSTART;VALUE=DATE:20221001
DTEND;VALUE=DATE:20221002
DTSTAMP:20260420T135604
CREATED:20211231T233533Z
LAST-MODIFIED:20220102T163822Z
UID:2040-1664582400-1664668799@formaggiastic.com
SUMMARY:Transhumance - L´ Etivaz\, Switzerland
DESCRIPTION:Transhumance – L´ Etivaz\, Switzerland\nL´Etivaz AOP  is one of the great swiss cheeses and watching the cows come back from their mountain pastures is an event that crowns your tasting experience.\n\n \n 
URL:https://formaggiastic.com/event/etivaz
LOCATION:Coopérative des producteurs de fromages d’alpages “l’Etivaz”\, Route des Mosses 78\, L'Etivaz\, 1660\, Switzerland
END:VEVENT
BEGIN:VEVENT
DTSTART;VALUE=DATE:20220917
DTEND;VALUE=DATE:20220919
DTSTAMP:20260420T135604
CREATED:20220101T001050Z
LAST-MODIFIED:20220102T164112Z
UID:2043-1663372800-1663545599@formaggiastic.com
SUMMARY:Berner Alpkaesemeisterschaft - Frutigen\, Switzerland
DESCRIPTION:Berner-Alpkaesemeisterschaft – September 2022\n23rd Berner-Alpkaesemeisterschaft: Switzerland might not be the biggest country on earth – but it sure knows how to make cheese! \nSome of the most outstanding ones come from the department of Bern and therefor will be featured in a weekend feast.  \nOn the weekend of September 17th you will have the opportunity  to watch the best of the district to compete. There will be AOP and not yet AOP to taste and conquer. \n Just thinking about it- Gustav and I want to book a trip 😉 \nDue to Covid-19 in the past many events were moved or had to be canceled. Make sure to always check official sites before booking tickets or heading to an event. \n 
URL:https://formaggiastic.com/event/alpkaesemeisterschaft
LOCATION:Widi Sporthalle\, Untere Bahnhofstrasse\, Frutigen\, 3714\, Switzerland
END:VEVENT
BEGIN:VEVENT
DTSTART;TZID=Europe/Vienna:20220529T100000
DTEND;TZID=Europe/Vienna:20220529T170000
DTSTAMP:20260420T135604
CREATED:20220529T154218Z
LAST-MODIFIED:20220530T120251Z
UID:4398-1653818400-1653843600@formaggiastic.com
SUMMARY:De Kees I Hamburger Käsemarkt
DESCRIPTION:De Kees – Slow Food Hamburg & Hobenköök invite to the 2nd Hamburg Cheese market on Sunday\, May 29th!\nMore than 50 dairies and producers from North Germany will come and let you taste their cheeses. \nThere will be live entertainment\, discussion groups and tastings – and the whole day is dedicated to our beloved friends! \n 
URL:https://formaggiastic.com/event/de-kees
LOCATION:Hobenköök Restaurant &Markthalle\, Stockmeyerstrasse 43\, Hamburg\, 20457\, Germany
END:VEVENT
BEGIN:VEVENT
DTSTART;VALUE=DATE:20230429
DTEND;VALUE=DATE:20230502
DTSTAMP:20260420T135604
CREATED:20230112T060942Z
LAST-MODIFIED:20230114T205626Z
UID:1713-1682726400-1682985599@formaggiastic.com
SUMMARY:Cheese Festival Stellenbosch 2023- South Africa
DESCRIPTION:SA Cheese Festival 2023 – South Africa\nThe Stellenbosch SA Cheese Festival in South Africa is also happening in 2023! \nAs of today the line-up is still a secret but the date seems to be fixated!\nTo get an idea what might happen this year – here a little view into the program of 2022:\nPop Up cheese Picnics at different destinations. \nWARWICK WINE ESTATE\nStellenbosch\nBENGUELA COVE WINE ESTATE\nHermanus\nGROOTE POST WINE ESTATE\nDarling\nSANDRINGHAM\nStellenbosch \nMark your calendar and reserve your tickets here! \nNote: Dates of festivals and events might change. Always check official sites before booking your trip or heading out the door.\n \n 
URL:https://formaggiastic.com/event/cheese-festival-stellenbosch-south-africa
LOCATION:Sandringham\, Sandringham Rd\, Stellenbosch\, Cape Town\, 7600\, South Africa
ATTACH;FMTTYPE=image/jpeg:https://formaggiastic.com/wp-content/uploads/2022/03/stellenbosch.jpg
END:VEVENT
BEGIN:VEVENT
DTSTART;VALUE=DATE:20220306
DTEND;VALUE=DATE:20220307
DTSTAMP:20260420T135604
CREATED:20220106T180513Z
LAST-MODIFIED:20220107T220420Z
UID:1737-1646524800-1646611199@formaggiastic.com
SUMMARY:cheesemongerinvitational - San Francisco\,CA\, USA
DESCRIPTION:cheesemongerinvitational – San Francisco\, CA\, USA\nThe cheesemongerinvitational is the chance to get really close to the ones who know how to taste\,present and treat our cheese. That day the cheesemongers on set get confronted with the tasks of doing perfect pairing\, perfect plating and create the perfect bite. Out of five finalists one will be the queen or king of the year.
URL:https://formaggiastic.com/event/cheesemongerinvitational-brookly-ny-usa
LOCATION:the Midway\, 900 Marin St.\, San Francisco\, CA\, 94124\, United States
END:VEVENT
BEGIN:VEVENT
DTSTART;VALUE=DATE:20211021
DTEND;VALUE=DATE:20211026
DTSTAMP:20260420T135604
CREATED:20220106T155320Z
LAST-MODIFIED:20220906T195430Z
UID:3283-1634774400-1635206399@formaggiastic.com
SUMMARY:A CHEESE GETAWAY -Barcelona\, Catalonia
DESCRIPTION:Exact date yet to be announced!\nJoin formaggiastic and Catalonia’s top food pros Aborígens for 3 culinary cheese days and spend \nsome unforgettable days in and around Barcelona.  \nIn a small group guided by Catalonian food insiders Aborígens you’ll discover \ntraditional taverns\, meet up with regional cheese makers\, and spend epicurean hours at an organic winery. \n\nA tour to Catalan´s culinary heart for all lovers of food\, culture and terroir.
URL:https://formaggiastic.com/event/a-cheese-getaway
LOCATION:Barcelona\, Barcelona\, Spain
ATTACH;FMTTYPE=image/jpeg:https://formaggiastic.com/wp-content/uploads/2020/05/cheese.jpg
END:VEVENT
BEGIN:VEVENT
DTSTART;VALUE=DATE:20260924
DTEND;VALUE=DATE:20260929
DTSTAMP:20260420T135604
CREATED:20260128T211734Z
LAST-MODIFIED:20260204T101908Z
UID:971-1790208000-1790639999@formaggiastic.com
SUMMARY:Terra Madre | Salone del Gusto 2026-Turin\, Italy
DESCRIPTION:Terra Madre -Salone del Gusto 2026\nLet´s go Terra Madre – Salone del Gusto  !\nAs we all know this is not a cheese festival –  it´s the biggest and most important international food event. In  2018 Salone del Gusto welcomed more than 200.000 visitor from all over the world and its dedication is to good\, clean and fair food. \nFood is our most important link between nature and culture: Slow Food\, through Terra Madre\, aims to show a way forward\, to light a new path toward a healthier relationship with nature\, through food. Our food reconnects us to the land\, the soil\, the sea\, but it is also an integral part of our identities\, our pleasure. It’s the perfect tool to reshape the bond between nature and culture. (from the organizers website) \nNot a slow food member yet? \nDon’t worry you can join anytime. [click] The earlier the better! \nLiving in Vienna? Join the international comunity and come to our monthly meetings! \nNote:\nFestival times might change and events might be canceled.\nAlways check official sites before booking your trip or heading out the door.\nImage Rights: All images used in this event calendar are under copyright of the organizer and or/its maker.
URL:https://formaggiastic.com/event/terra-madre-salone-del-gusto-turin-italy
LOCATION:Salone del Gusto\, Parco Dora\, Turin\, Piedmont\, Italy
ATTACH;FMTTYPE=image/jpeg:https://formaggiastic.com/wp-content/uploads/2025/12/TerraMadre.jpg
END:VEVENT
BEGIN:VEVENT
DTSTART;TZID=UTC:20200220T113000
DTEND;TZID=UTC:20200222T170000
DTSTAMP:20260420T135604
CREATED:20200128T171434Z
LAST-MODIFIED:20200911T150746Z
UID:3124-1582198200-1582390800@formaggiastic.com
SUMMARY:Montreal Cheese Festival - Montreal\, Canada
DESCRIPTION:Montreal Cheese Festival – Montreal\, Canada\nThe annual Montreal Cheese Festival – Montreal\, Canada again takes place in February 2020 and as in the years before is wrapped into Montreal´s winter festival “Montréal en Lumière” \n3 days of cheese tasting from about 20 different producers are awaiting you. \nCheese tasting is free of charge but of course you should always make sure to stock up your fridge!
URL:https://formaggiastic.com/event/montreal
LOCATION:Complexe Desjardins\, 150 Ste. Catherine St W\, Montreal\, Quebec\, H2X 3Y2\, Canada
END:VEVENT
BEGIN:VEVENT
DTSTART;VALUE=DATE:20190216
DTEND;VALUE=DATE:20190218
DTSTAMP:20260420T135604
CREATED:20190121T093344Z
LAST-MODIFIED:20200911T150802Z
UID:2187-1550275200-1550447999@formaggiastic.com
SUMMARY:Cheese Fest UK - Manchester\, United Kingdom
DESCRIPTION:The Cheese Fest UK hits Manchester the third weekend of February!\nCheese for everyone at  theCheese Fest UK that will open its gates in Manchester\, North West England on Saturday February 16th and Sunday February 17th. \nMore than 100 different types of cheeses with artisan friends from all over around the world are waiting for you to join\, listen to live Bands\, have a drink and drown in cheese! \nTickets are already on sale – make sure to grab yours!
URL:https://formaggiastic.com/event/cheese-fest-manchester-uk
LOCATION:Bowlers Arena\, Longbridge Rd\, Manchester\, Stretford\, M17 1EH\, United Kingdom
END:VEVENT
BEGIN:VEVENT
DTSTART;VALUE=DATE:20230715
DTEND;VALUE=DATE:20230717
DTSTAMP:20260420T135604
CREATED:20230202T194221Z
LAST-MODIFIED:20230204T161522Z
UID:2065-1689379200-1689551999@formaggiastic.com
SUMMARY:Friulian cheese festival - Montereale Valcellina\, Italy
DESCRIPTION:Friulian cheese festival – Montereale Valcellina\, Italy\nThe traditional Friulian cheese festival goes into another round! \nTraditionally the Friulian cheese festival will be held at the Parco della ex centrale idroelettrica in Montereale Valcellina. There will be concerts\, dancing\, all kinds of different food and of course – cheese\, cheese\, cheese! \nNote: Festival and event dates might change. Always check with official sites before booking your trip or heading out the door.
URL:https://formaggiastic.com/event/friulian-cheese-festival-montereale
LOCATION:Montereale Valcellina\, Montereale Valcellina\, Porderone\, 33086\, Italy
END:VEVENT
END:VCALENDAR