BEGIN:VCALENDAR
VERSION:2.0
PRODID:-//formaggiastic - ECPv6.15.18//NONSGML v1.0//EN
CALSCALE:GREGORIAN
METHOD:PUBLISH
X-ORIGINAL-URL:https://formaggiastic.com
X-WR-CALDESC:Events for formaggiastic
REFRESH-INTERVAL;VALUE=DURATION:PT1H
X-Robots-Tag:noindex
X-PUBLISHED-TTL:PT1H
BEGIN:VTIMEZONE
TZID:Europe/Vienna
BEGIN:DAYLIGHT
TZOFFSETFROM:+0100
TZOFFSETTO:+0200
TZNAME:CEST
DTSTART:20250330T010000
END:DAYLIGHT
BEGIN:STANDARD
TZOFFSETFROM:+0200
TZOFFSETTO:+0100
TZNAME:CET
DTSTART:20251026T010000
END:STANDARD
BEGIN:DAYLIGHT
TZOFFSETFROM:+0100
TZOFFSETTO:+0200
TZNAME:CEST
DTSTART:20260329T010000
END:DAYLIGHT
BEGIN:STANDARD
TZOFFSETFROM:+0200
TZOFFSETTO:+0100
TZNAME:CET
DTSTART:20261025T010000
END:STANDARD
BEGIN:DAYLIGHT
TZOFFSETFROM:+0100
TZOFFSETTO:+0200
TZNAME:CEST
DTSTART:20270328T010000
END:DAYLIGHT
BEGIN:STANDARD
TZOFFSETFROM:+0200
TZOFFSETTO:+0100
TZNAME:CET
DTSTART:20271031T010000
END:STANDARD
END:VTIMEZONE
BEGIN:VEVENT
DTSTART;TZID=Europe/Vienna:20260508T100000
DTEND;TZID=Europe/Vienna:20260524T170000
DTSTAMP:20260422T112816
CREATED:20260302T122849Z
LAST-MODIFIED:20260304T113559Z
UID:4763-1778234400-1779642000@formaggiastic.com
SUMMARY:42nd Mostra dei formaggi- Santandrà\, Italy
DESCRIPTION:42nd Mostra dei formaggi tipici – Santandrà\, Italy\n++++DATE TO BE CONFIRMED+++ \nThis year the Mostra dei formaggi tipici of Santandrà di Povegliano in Italys province of Treviso goes into its 42nd round. \nAs the size of the village suggests it´s a small festival that nonetheless has a lot of deliciousness to offer and with Povegliano being one of “città di formaggio 2025” there is one more reason to come and join the feast! \nFor more than a decade it is also accompaigned by the Mostra del Prosciutto Crudo and being just a short drive from  Treviso and  Congeliano it is definitely worth a pit-stop. \nThe tasting team says he loves little village festivals  – less people more cheese for him! \nNote:\nFestival times might change and events might be canceled.\nAlways check official sites before heading out the door or booking your trip.\nImage Rights: All images used in this event calendar are under copyright of the organizer and or/its maker.
URL:https://formaggiastic.com/event/42nd-mostra-dei-formaggi-santandra-italy
LOCATION:Pro Loco Santandrà\, Via Croce\, 14\, Santandrà di Povegliano\, Treviso\, 31050\, Italy
END:VEVENT
END:VCALENDAR