BEGIN:VCALENDAR
VERSION:2.0
PRODID:-//formaggiastic - ECPv6.15.18//NONSGML v1.0//EN
CALSCALE:GREGORIAN
METHOD:PUBLISH
X-ORIGINAL-URL:https://formaggiastic.com
X-WR-CALDESC:Events for formaggiastic
REFRESH-INTERVAL;VALUE=DURATION:PT1H
X-Robots-Tag:noindex
X-PUBLISHED-TTL:PT1H
BEGIN:VTIMEZONE
TZID:Europe/Vienna
BEGIN:DAYLIGHT
TZOFFSETFROM:+0100
TZOFFSETTO:+0200
TZNAME:CEST
DTSTART:20250330T010000
END:DAYLIGHT
BEGIN:STANDARD
TZOFFSETFROM:+0200
TZOFFSETTO:+0100
TZNAME:CET
DTSTART:20251026T010000
END:STANDARD
BEGIN:DAYLIGHT
TZOFFSETFROM:+0100
TZOFFSETTO:+0200
TZNAME:CEST
DTSTART:20260329T010000
END:DAYLIGHT
BEGIN:STANDARD
TZOFFSETFROM:+0200
TZOFFSETTO:+0100
TZNAME:CET
DTSTART:20261025T010000
END:STANDARD
BEGIN:DAYLIGHT
TZOFFSETFROM:+0100
TZOFFSETTO:+0200
TZNAME:CEST
DTSTART:20270328T010000
END:DAYLIGHT
BEGIN:STANDARD
TZOFFSETFROM:+0200
TZOFFSETTO:+0100
TZNAME:CET
DTSTART:20271031T010000
END:STANDARD
END:VTIMEZONE
BEGIN:VTIMEZONE
TZID:UTC
BEGIN:STANDARD
TZOFFSETFROM:+0000
TZOFFSETTO:+0000
TZNAME:UTC
DTSTART:20250101T000000
END:STANDARD
END:VTIMEZONE
BEGIN:VEVENT
DTSTART;VALUE=DATE:20260501
DTEND;VALUE=DATE:20260504
DTSTAMP:20260422T105414
CREATED:20260303T101800Z
LAST-MODIFIED:20260305T101538Z
UID:5402-1777593600-1777852799@formaggiastic.com
SUMMARY:9th Fête de la Tête de Moine - Bellelay\, Switzerland
DESCRIPTION:9th Fête de la Tête de Moine – Bellelay\, Switzerland\nFrom May 1st to May 3rd\, 2026\, the little town of Bellelay will celebrate it´s famous offspring * Tête de Moine *\, a jewel of Swiss culinary heritage! \nThere will be a world cheese platter competition\, a tasting of Tête de Moine and also a tasting of 2026 guest of honor\, Berner Alpkäse AOP. \nThe event follows the theme “our landscape” and is a guaranteed deep dive into the region and its cheeses. \nOn 3 days you can taste-walk yourself through market stalls and watch the making of Tête de Moine and Vacherin Fribourgeois. Moreover there will be guided visits to the Tête de Moine Museum as well as evening  live performances. \nFor a program deep dive follow the link to the event! \nNote:\nFestival times might change and events might be canceled.\nAlways check official sites before booking your trip or heading out the door.\nImage Rights: All images used in this event calendar are under copyright of the organizer and or/its maker.
URL:https://formaggiastic.com/event/9th-fete-de-la-tete-de-moine-bellelay
LOCATION:bellelay\, Le Domaine 1\, Bellelay\, 2713\, Switzerland
ATTACH;FMTTYPE=image/jpeg:https://formaggiastic.com/wp-content/uploads/2025/01/Bellelay.jpg
END:VEVENT
BEGIN:VEVENT
DTSTART;VALUE=DATE:20260501
DTEND;VALUE=DATE:20260505
DTSTAMP:20260422T105414
CREATED:20251229T213607Z
LAST-MODIFIED:20251230T155426Z
UID:4742-1777593600-1777939199@formaggiastic.com
SUMMARY:39th Feria del Queso -Trujillo\, Spain
DESCRIPTION:39th Feria del Queso Trujillo -the National Spanish Cheese Festival\nThis festival – Feria del Queso – takes place since 1986 and shows artisanal cheese at its best! More than 60 vendors\, over 300 different cheeses\, workshops\, technical conferences +  a tasting contest! \nDid you know? 4 cheeses from the Extremadura are recognized PDO cheeses – Torta del Casar\, La Serena\, Ibores and since recently also Acehúche.\nTickets can be bought at Trujillo City Hall or in the parking area of the Fair Institution. \nThe tasting team is certain; who would want to miss 4 days of guaranteed deliciousness! \n++++DATE TO BE CONFIRMED++++ \nNote:\nFestival times might change and events might be canceled.\nAlways check official sites before booking your trip or heading out the door.\nImage Rights: All images used in this event calendar are under copyright of the organizer and or/its maker.
URL:https://formaggiastic.com/event/39th-feria-del-queso-trujillo-spain
LOCATION:Plaza Mayor\, Trujillo\, Plaza Mayor\, Trujillo\, Spain
ATTACH;FMTTYPE=image/jpeg:https://formaggiastic.com/wp-content/uploads/2023/12/feria-national-del-queso.jpg
END:VEVENT
BEGIN:VEVENT
DTSTART;VALUE=DATE:20260502
DTEND;VALUE=DATE:20260504
DTSTAMP:20260422T105414
CREATED:20260302T171824Z
LAST-MODIFIED:20260305T104221Z
UID:1725-1777680000-1777852799@formaggiastic.com
SUMMARY:31st Festival des AOC-AOP  - Cambremer \, France
DESCRIPTION:31st Festival des AOC-AOP en Normandy – Cambremer \, France\nSince 1995 the festival of  Normandy AOC and AOP takes place in Cambremer\, France.  \nOn two days you can try the 4 AOP cheese of Normandy – the Livarot\, the Camembert de Normandie\, the Neufchâtel and the  Pont L’évêque.  \nNaturally all of it is accompained by a variety of cidre and calvados. \nNote:\nFestival times might change and events might be canceled.\nAlways check official sites before booking your trip or heading out the door.\nImage Rights: All images used in this event calendar are under copyright of the organizer and or/its maker.
URL:https://formaggiastic.com/event/31st-festival-des-aoc-aop-france
LOCATION:Cambremer\, Calvados 14\, Cambremer\, Basse-Normandie\, France
ATTACH;FMTTYPE=image/jpeg:https://formaggiastic.com/wp-content/uploads/2022/12/aop-normandie.jpg
END:VEVENT
BEGIN:VEVENT
DTSTART;VALUE=DATE:20260503
DTEND;VALUE=DATE:20260504
DTSTAMP:20260422T105414
CREATED:20251229T180143Z
LAST-MODIFIED:20251230T154126Z
UID:4799-1777766400-1777852799@formaggiastic.com
SUMMARY:FÊTE DU FROMAGE 2026- Gruyères\, Switzerland
DESCRIPTION:FÊTE DU FROMAGE 2026 – Gruyères\, Switzerland\nFÊTE DU FROMAGE – Gruyères\, Switzerland might not be the crown cheese event of the year\, but it surely takes place in the cradle of a king! \nTraditionally the festival will take place on the first Sunday in May and there will be production demonstrations as well as plenty of tastings and entertainment! \nNote:\nFestival times might change and events might be canceled.\nAlways check official sites before booking your trip or heading out the door.\nImage Rights: All images used in this event calendar are under copyright of the organizer and or/its maker.
URL:https://formaggiastic.com/event/fete-du-fromage-gruyeres-switzerland
LOCATION:fete du fromage\, GRUYÈRES\, Switzerland
END:VEVENT
END:VCALENDAR