BEGIN:VCALENDAR
VERSION:2.0
PRODID:-//formaggiastic - ECPv6.15.18//NONSGML v1.0//EN
CALSCALE:GREGORIAN
METHOD:PUBLISH
X-WR-CALNAME:formaggiastic
X-ORIGINAL-URL:https://formaggiastic.com
X-WR-CALDESC:Events for formaggiastic
REFRESH-INTERVAL;VALUE=DURATION:PT1H
X-Robots-Tag:noindex
X-PUBLISHED-TTL:PT1H
BEGIN:VTIMEZONE
TZID:Europe/Vienna
BEGIN:DAYLIGHT
TZOFFSETFROM:+0100
TZOFFSETTO:+0200
TZNAME:CEST
DTSTART:20250330T010000
END:DAYLIGHT
BEGIN:STANDARD
TZOFFSETFROM:+0200
TZOFFSETTO:+0100
TZNAME:CET
DTSTART:20251026T010000
END:STANDARD
BEGIN:DAYLIGHT
TZOFFSETFROM:+0100
TZOFFSETTO:+0200
TZNAME:CEST
DTSTART:20260329T010000
END:DAYLIGHT
BEGIN:STANDARD
TZOFFSETFROM:+0200
TZOFFSETTO:+0100
TZNAME:CET
DTSTART:20261025T010000
END:STANDARD
BEGIN:DAYLIGHT
TZOFFSETFROM:+0100
TZOFFSETTO:+0200
TZNAME:CEST
DTSTART:20270328T010000
END:DAYLIGHT
BEGIN:STANDARD
TZOFFSETFROM:+0200
TZOFFSETTO:+0100
TZNAME:CET
DTSTART:20271031T010000
END:STANDARD
END:VTIMEZONE
BEGIN:VTIMEZONE
TZID:UTC
BEGIN:STANDARD
TZOFFSETFROM:+0000
TZOFFSETTO:+0000
TZNAME:UTC
DTSTART:20250101T000000
END:STANDARD
END:VTIMEZONE
BEGIN:VEVENT
DTSTART;VALUE=DATE:20260409
DTEND;VALUE=DATE:20260413
DTSTAMP:20260420T112914
CREATED:20260125T162529Z
LAST-MODIFIED:20260126T143901Z
UID:5421-1775692800-1776038399@formaggiastic.com
SUMMARY:Slow Food Messe 2026- Stuttgart\, Germany
DESCRIPTION:Slow Food Messe 2026- Stuttgart\, Germany\nThe Slow Food Messe\, the market of good taste in Stuttgart is the biggest Slow Food Fair in Germany this year. For four days you can enjoy regional\, sustainable and 100% handcrafted food. \nWe say- pack your bags and go \nNote:\nFestival times might change and events might be canceled.\nAlways check official sites before booking your trip or heading out the door.\nImage Rights: All images used in this event calendar are under copyright of the organizer and or/its maker.
URL:https://formaggiastic.com/event/slow-food-messe-stuttgart-germany
LOCATION:Messe Stuttgart\, Messeplatz 1\, Stuttgart\, 70629\, Germany
END:VEVENT
BEGIN:VEVENT
DTSTART;VALUE=DATE:20260410
DTEND;VALUE=DATE:20260413
DTSTAMP:20260420T112914
CREATED:20260303T154446Z
LAST-MODIFIED:20260326T184543Z
UID:5844-1775779200-1776038399@formaggiastic.com
SUMMARY:Fiestas del Queso 2026 - Tenosique\, Mexico
DESCRIPTION:Fiestas del Queso 2026 – Tenosique\, Mexico\nIt´s the 13th time this special cheese event is opening its doors to cheese lovers from near and afar. \nIn 2023 60.000 visitors enjoyed the festival that features producers and products of the Tabasco state with tastings\, parings\, competitions as well as arts and crafts products. \nSince 2013 the Festival del Queso Artesanal traditionally takes place in Tenosique\, Mexico and is a great event with lots of artisanal producers! \n  \nNote:\nFestival times might change and events might be canceled.\nAlways check official sites before heading out the door or booking your trip.\nImage Rights: All images used in this event calendar are under copyright of the organizer and or/its maker.
URL:https://formaggiastic.com/event/fiestas-del-queso-2026-tenosique-mexico
LOCATION:Centro De Convenciones\, C. 20 1004\, Estacion Nueva\,\, Tenosique de Pino Suárez\, Tabasco\, 86901\, Mexico
ATTACH;FMTTYPE=image/jpeg:https://formaggiastic.com/wp-content/uploads/2024/11/fiestas-del-queso.jpg
END:VEVENT
BEGIN:VEVENT
DTSTART;VALUE=DATE:20260411
DTEND;VALUE=DATE:20260412
DTSTAMP:20260420T112914
CREATED:20260121T141732Z
LAST-MODIFIED:20260121T141938Z
UID:6416-1775865600-1775951999@formaggiastic.com
SUMMARY:1st Wine and Cheese Fest Sydney - Australia
DESCRIPTION:1st Wine and Cheese Fest  Sydney\, Australia \nWith Melbourne´s Wine and Cheese Fest being such a great success\, the organizers decided to open a second location to spread the taste. \nThe motto  “where there is wine\, there is cheese” will also in Sydney be the guarantee for great tasting experiences and fun for all cheese lovers! \nBesides tons of tastings\, there will be also cheese masterclasses and live entertainment! \nJust the location promises a great day – Carriageworks in Eveleigh NSW! \nNote:\nFestival times might change and events might be canceled.\nAlways check official sites before heading out the door.\nImage Rights: All images used in this event calendar are under copyright of the organizer and or/its maker.
URL:https://formaggiastic.com/event/1st-wine-and-cheese-fest-sydney-australia
LOCATION:Carriageworks\, 245 Wilson St Eveleigh\, Sydney\, Australia
ATTACH;FMTTYPE=image/jpeg:https://formaggiastic.com/wp-content/uploads/2024/12/wineandcheese.jpg
END:VEVENT
BEGIN:VEVENT
DTSTART;TZID=UTC:20260411T090000
DTEND;TZID=UTC:20260411T170000
DTSTAMP:20260420T112914
CREATED:20251228T144630Z
LAST-MODIFIED:20251229T125408Z
UID:2212-1775898000-1775926800@formaggiastic.com
SUMMARY:Käsefest Basel 2026 - Basel\, Switzerland
DESCRIPTION:Käsefest Basel 2026 – Barfüsserplatz\, Basel\,Switzerland\nThe Käsefest Basel will this year take place in the middle of town on Barfüsserplatz. The festival will opens its gates to cheese lovers and -seekers and promises a great tasting experience all the way through Switzerland´s finest finds.\nThere will be lot´s of entertainment with music\, show-cheesing and even cows (live cow milking included!) in the midst of town. \nDozens of different dairies will present their milk- and cheese specialities and there will be tons of cold- and warm cheeseplates to get you trough the day. \nAnd by the way – Basel is always worth a trip! \nNote:\nFestival times might change and events might be canceled.\nAlways check official sites before heading out the door or booking your trip.\nImage Rights: All images used in this event calendar are under copyright of the organizer and or/its maker. \n 
URL:https://formaggiastic.com/event/kasefest-basel-2026-basel-switzerland
LOCATION:Barfüsserplatz\, Barfüsserplatz\, Basel\, 4051\, Switzerland
ATTACH;FMTTYPE=image/jpeg:https://formaggiastic.com/wp-content/uploads/2022/01/kasefest.jpg
END:VEVENT
BEGIN:VEVENT
DTSTART;TZID=Europe/Vienna:20260411T100000
DTEND;TZID=Europe/Vienna:20260412T180000
DTSTAMP:20260420T112914
CREATED:20260107T205940Z
LAST-MODIFIED:20260121T161539Z
UID:4260-1775901600-1776016800@formaggiastic.com
SUMMARY:29th Fête des vins et fromages - Villemoisson-sur-Orge\, France
DESCRIPTION:29 th Fête des vins et fromages – Villemoisson-sur-Orge\, France\nThis year Fête des vins et fromages the wine and cheese festival in Villemoisson-sur-Orge just a 30minute drive south of Paris will go into its 29th round. Since France is famous for its wine and cheese alike you will find both and both naturally on a high quality level. \nEntrance is €3.00 and includes a glass of wine. \nNote:\nFestival times might change and events might be canceled.\nAlways check official sites before booking your trip or heading out the door.\nImage Rights: All images used in this event calendar are under copyright of the organizer and or/its maker. \n 
URL:https://formaggiastic.com/event/fete-des-vins-et-fromages-villemoisson
LOCATION:Villemoisson-sur-Orge\, Villemoisson-sur-Orge\, 91360\, France
ATTACH;FMTTYPE=image/jpeg:https://formaggiastic.com/wp-content/uploads/2022/03/villemoisson.jpg
END:VEVENT
BEGIN:VEVENT
DTSTART;TZID=Europe/Vienna:20260411T100000
DTEND;TZID=Europe/Vienna:20260412T180000
DTSTAMP:20260420T112914
CREATED:20260330T085419Z
LAST-MODIFIED:20260330T085419Z
UID:6568-1775901600-1776016800@formaggiastic.com
SUMMARY:Printemps des Chèvres 2026- Faverges-Seythenex\, France
DESCRIPTION:Printemps des Chèvres 2026 – Goat Spring Festival 2026\nThe 12th edition of the Printemps des Chèvres celebrates goat culture and traditional cheesemaking in the scenic setting of Faverges-Seythenex. It´s a family-friendly festival that offers two days of tastings\, workshops\, and entertainment. \nEnjoy goat cheese and local specialties\, meet producers and artisans\, explore the craft market\, and discover activities for all ages—including cheesemaking demos\, live music\, and children’s games. \n\nEntry is free but reservations are recommended for weekend meals. \n\nHere is what to expect throughout the Printemps des Chèvres weekend: \nSATURDAY\, APRIL 11 \n\nInterdepartmental Goat Competition – 10:00 AM\nPresentation of Goat Breeds – 10:00 AM to 12:00 PM\nDemonstration of Chevrotin PDO Cheese Production – 10:30 AM\nInauguration of the 12th Spring Goat Festival – 11:30 AM\nLunch provided by the Spring Goat Festival Association – 12:00 PM\nHerding Dog Demonstration – 2:00 PM and 4:00 PM\nPresentation of Prize-Winning Goats and Awards Ceremony – 3:00 PM\nGoat Milking – 5:30 PM\n“Get Active on Saturday!” Dinner followed by a party hosted by the Rugby Club – 8 pm at the community hall\n\nSUNDAY\, APRIL 12 \n\nInterdepartmental goat and sheep cheese competition – 10 am\nDemonstration of Tomme cheese making – 10:30 am\nHerding dog demonstration – 11:30 am and 4 pm\nLunch provided by the Young Farmers – 12 pm\nAwards ceremony for the cheese and drawing competitions – 3 pm\nGoat milking – 5:30 pm\n\n  \nNote:\nFestival times might change and events might be canceled.\nAlways check official sites before heading out the door or booking your trip.\nImage Rights: All images used in this event calendar are under copyright of the organizer and or/its maker.
URL:https://formaggiastic.com/event/printemps-des-chevres-faverges-seythenex
LOCATION:Parc Simon Berger\, Parc Simon Berger\, Faverges-Seythenex\, 74210\, France
END:VEVENT
END:VCALENDAR