BEGIN:VCALENDAR
VERSION:2.0
PRODID:-//formaggiastic - ECPv6.15.18//NONSGML v1.0//EN
CALSCALE:GREGORIAN
METHOD:PUBLISH
X-WR-CALNAME:formaggiastic
X-ORIGINAL-URL:https://formaggiastic.com
X-WR-CALDESC:Events for formaggiastic
REFRESH-INTERVAL;VALUE=DURATION:PT1H
X-Robots-Tag:noindex
X-PUBLISHED-TTL:PT1H
BEGIN:VTIMEZONE
TZID:Europe/Vienna
BEGIN:DAYLIGHT
TZOFFSETFROM:+0100
TZOFFSETTO:+0200
TZNAME:CEST
DTSTART:20240331T010000
END:DAYLIGHT
BEGIN:STANDARD
TZOFFSETFROM:+0200
TZOFFSETTO:+0100
TZNAME:CET
DTSTART:20241027T010000
END:STANDARD
BEGIN:DAYLIGHT
TZOFFSETFROM:+0100
TZOFFSETTO:+0200
TZNAME:CEST
DTSTART:20250330T010000
END:DAYLIGHT
BEGIN:STANDARD
TZOFFSETFROM:+0200
TZOFFSETTO:+0100
TZNAME:CET
DTSTART:20251026T010000
END:STANDARD
BEGIN:DAYLIGHT
TZOFFSETFROM:+0100
TZOFFSETTO:+0200
TZNAME:CEST
DTSTART:20260329T010000
END:DAYLIGHT
BEGIN:STANDARD
TZOFFSETFROM:+0200
TZOFFSETTO:+0100
TZNAME:CET
DTSTART:20261025T010000
END:STANDARD
END:VTIMEZONE
BEGIN:VEVENT
DTSTART;VALUE=DATE:20251010
DTEND;VALUE=DATE:20251012
DTSTAMP:20260422T120051
CREATED:20250827T100559Z
LAST-MODIFIED:20251001T080939Z
UID:5902-1760054400-1760227199@formaggiastic.com
SUMMARY:Ostfestivalen 2025 - Göteborg\, Sweden
DESCRIPTION:Ostfestivalen 2025 – Göteborg\, Sweden\nSwedish cheese at its finest  – Ostestivalen 2025 again also in Göteborg! \nCheeses from all over Sweden await you to be eaten on the spot or be adopted into your cosy home.\n2 exciting days of cheese tasting  with a variety of seminars and lectures also on offer.  \nPre-sale Tickets are available for SEK 150-195 (ca 13-18€) – Children under 12years are free of charge. \nGustav says he finally managed to get his paws on a Gamalost– and loved it! \nNote:\nFestival times might change and events might be canceled.\nAlways check official sites before heading out the door.\nImage Rights: All images used in this event calendar are under copyright of the organizer and or/its maker.
URL:https://formaggiastic.com/event/ostfestivalen-2025-goteborg-sweden
LOCATION:Auktionsverket Kulturarena\, Tredje Långgatan 9\, Göteborg\, 41303\, Sweden
ATTACH;FMTTYPE=image/jpeg:https://formaggiastic.com/wp-content/uploads/2023/01/OST-Festivalen.jpg
END:VEVENT
END:VCALENDAR