BEGIN:VCALENDAR
VERSION:2.0
PRODID:-//formaggiastic - ECPv6.15.18//NONSGML v1.0//EN
CALSCALE:GREGORIAN
METHOD:PUBLISH
X-ORIGINAL-URL:https://formaggiastic.com
X-WR-CALDESC:Events for formaggiastic
REFRESH-INTERVAL;VALUE=DURATION:PT1H
X-Robots-Tag:noindex
X-PUBLISHED-TTL:PT1H
BEGIN:VTIMEZONE
TZID:UTC
BEGIN:STANDARD
TZOFFSETFROM:+0000
TZOFFSETTO:+0000
TZNAME:UTC
DTSTART:20240101T000000
END:STANDARD
END:VTIMEZONE
BEGIN:VEVENT
DTSTART;VALUE=DATE:20250830
DTEND;VALUE=DATE:20250901
DTSTAMP:20260422T122230
CREATED:20250703T173312Z
LAST-MODIFIED:20250729T180749Z
UID:2270-1756512000-1756684799@formaggiastic.com
SUMMARY:Caerphilly Cheese Festival 2025- Caerphilly\, UK
DESCRIPTION:Caerphilly Cheese Festival 2025- Caerphilly\, UK\nCaerphilly Castle\, just a few miles north of Cardiff\, is England´s second largest castle after Windsor and will be the backdrop for this year´s Caerphilly Cheese Festival.  \nAs in earlier editions there will be loads of food and plenty of entertainment with music and performances rocking the town center. \nAnd most important – there will be a giant cheese market with cheese producers from all over the coutry! \n  \nNote:\nFestival times might change and events might be canceled.\nAlways check official sites before booking your trip or heading out the door.\nImage Rights: All images used in this event calendar are under copyright of the organizer and or/its maker.
URL:https://formaggiastic.com/event/cheese-festival-caerphilly-uk
LOCATION:Caerphilly Castle\, Crescent Road\, Caerphilly\, CF83 1AB\, United Kingdom
ATTACH;FMTTYPE=image/jpeg:https://formaggiastic.com/wp-content/uploads/2024/08/caerphilly.jpg
END:VEVENT
END:VCALENDAR