BEGIN:VCALENDAR
VERSION:2.0
PRODID:-//formaggiastic - ECPv6.15.18//NONSGML v1.0//EN
CALSCALE:GREGORIAN
METHOD:PUBLISH
X-WR-CALNAME:formaggiastic
X-ORIGINAL-URL:https://formaggiastic.com
X-WR-CALDESC:Events for formaggiastic
REFRESH-INTERVAL;VALUE=DURATION:PT1H
X-Robots-Tag:noindex
X-PUBLISHED-TTL:PT1H
BEGIN:VTIMEZONE
TZID:Europe/Vienna
BEGIN:DAYLIGHT
TZOFFSETFROM:+0100
TZOFFSETTO:+0200
TZNAME:CEST
DTSTART:20240331T010000
END:DAYLIGHT
BEGIN:STANDARD
TZOFFSETFROM:+0200
TZOFFSETTO:+0100
TZNAME:CET
DTSTART:20241027T010000
END:STANDARD
BEGIN:DAYLIGHT
TZOFFSETFROM:+0100
TZOFFSETTO:+0200
TZNAME:CEST
DTSTART:20250330T010000
END:DAYLIGHT
BEGIN:STANDARD
TZOFFSETFROM:+0200
TZOFFSETTO:+0100
TZNAME:CET
DTSTART:20251026T010000
END:STANDARD
BEGIN:DAYLIGHT
TZOFFSETFROM:+0100
TZOFFSETTO:+0200
TZNAME:CEST
DTSTART:20260329T010000
END:DAYLIGHT
BEGIN:STANDARD
TZOFFSETFROM:+0200
TZOFFSETTO:+0100
TZNAME:CET
DTSTART:20261025T010000
END:STANDARD
END:VTIMEZONE
BEGIN:VEVENT
DTSTART;VALUE=DATE:20250817
DTEND;VALUE=DATE:20250818
DTSTAMP:20260422T101416
CREATED:20241223T191357Z
LAST-MODIFIED:20241226T120111Z
UID:4872-1755388800-1755475199@formaggiastic.com
SUMMARY:Sagra du Cascavaddu 2025- Castel di Lucio\, Sicily\, Italy
DESCRIPTION:Sagra du Cascavaddu 2025- Castel di Lucio\, Sicily\, Italy\nSagra du Cascavaddu or- easier to pronounce- the Caciocavallo festival takes place in the beautiful setting of the Lucio Castle in Sicily since 1990. \n\nDuring the 1 day festival you can take a glance in the past and find out more about the history\, making and flavors of the famous slow food product * Nebrodi provola *. Moreover there will be music\, wine and other cheesy products.\n\nNote:\nFestival times might change and events might be canceled.\nAlways check official sites before heading out the door.\nImage Rights: All images used in this event calendar are under copyright of the organizer and or/its maker. \n 
URL:https://formaggiastic.com/event/sagra-du-cascavaddu-2025-castel-di-lucio
LOCATION:Castel di Lucio\, Castel di Lucio\, Messina\, 98070\, Italy
END:VEVENT
END:VCALENDAR